BEGIN:VCALENDAR
VERSION:2.0
PRODID:SchoolNow
CALSCALE:GREGORIAN
BEGIN:VEVENT
UID:3ca4091a-c585-11f0-be7d-0a58a9feac02
DTSTAMP:20251121T005828Z
SUMMARY:CDD Board Meeting - Sept. 2025 - Cancelled
LOCATION:the SpringHill Suites by Marriott Tampa Suncoast Parkway located a
 t 16615 Crosspointe Run\, Land O' Lakes\, FL 34638
URL;VALUE=URI:https://www.vistawalkcdd.com/calendar/8804240/cdd-board-meeti
 ng-sept-2025-cancelled
DTSTART:20250909T151500Z
DTEND:20250909T161500Z
ATTACH;FILENAME=2025-09-09 Vista Walk Agenda.pdf;FMTTYPE=application/pdf:ht
 tps://campussuite-storage.s3.amazonaws.com/prod/1559300/004bfd38-ba7c-11f0
 -9613-0a58a9feac02/3036159/771cc51c-bf29-11f0-ae91-02231b95ae21/file/2025-
 09-09 Vista Walk Agenda.pdf
END:VEVENT
END:VCALENDAR
