BEGIN:VCALENDAR
VERSION:2.0
PRODID:SchoolNow
CALSCALE:GREGORIAN
BEGIN:VEVENT
UID:55d42c76-c585-11f0-8a31-025da0cf94e5
DTSTAMP:20251119T202130Z
SUMMARY:CDD Board Meeting - Oct. 2025 - Cancelled
LOCATION:the SpringHill Suites by Marriott Tampa Suncoast Parkway located a
 t 16615 Crosspointe Run\, Land O' Lakes\, FL 34638
URL;VALUE=URI:https://www.vistawalkcdd.com/calendar/8804241/cdd-board-meeti
 ng-oct-2025-cancelled
DTSTART:20251014T140000Z
DTEND:20251014T150000Z
END:VEVENT
END:VCALENDAR
