BEGIN:VCALENDAR
VERSION:2.0
PRODID:SchoolNow
CALSCALE:GREGORIAN
BEGIN:VEVENT
UID:6261293a-c585-11f0-b139-0a58a9feac02
DTSTAMP:20251119T202152Z
SUMMARY:CDD Board Meeting - Nov. 2025 - Cancelled
LOCATION:the SpringHill Suites by Marriott Tampa Suncoast Parkway located a
 t 16615 Crosspointe Run\, Land O' Lakes\, FL 34638
URL;VALUE=URI:https://www.vistawalkcdd.com/calendar/8804242/cdd-board-meeti
 ng-nov-2025-cancelled
DTSTART:20251111T150000Z
DTEND:20251111T160000Z
END:VEVENT
END:VCALENDAR
