BEGIN:VCALENDAR
VERSION:2.0
PRODID:SchoolNow
CALSCALE:GREGORIAN
BEGIN:VEVENT
UID:6fdb18f0-c585-11f0-b629-0a58a9feac02
DTSTAMP:20251209T170716Z
SUMMARY:CDD Board Meeting - Dec. 2025 - CANCELLED
LOCATION:the SpringHill Suites by Marriott Tampa Suncoast Parkway located a
 t 16615 Crosspointe Run\, Land O' Lakes\, FL 34638
URL;VALUE=URI:https://www.vistawalkcdd.com/calendar/8804243/cdd-board-meeti
 ng-dec-2025-cancelled
DTSTART:20251209T150000Z
DTEND:20251209T160000Z
END:VEVENT
END:VCALENDAR
