BEGIN:VCALENDAR
VERSION:2.0
PRODID:SchoolNow
CALSCALE:GREGORIAN
BEGIN:VEVENT
UID:7a6a222a-c585-11f0-9362-0a58a9feac02
DTSTAMP:20260120T182607Z
SUMMARY:CDD Board Meeting - Jan. 2026
LOCATION:the SpringHill Suites by Marriott Tampa Suncoast Parkway located a
 t 16615 Crosspointe Run\, Land O' Lakes\, FL 34638
URL;VALUE=URI:https://www.vistawalkcdd.com/calendar/8804244/cdd-board-meeti
 ng-jan-2026
DTSTART:20260113T150000Z
DTEND:20260113T160000Z
ATTACH;FILENAME=2026-01-13 Vista Walk Agenda.pdf;FMTTYPE=application/pdf:ht
 tps://campussuite-storage.s3.amazonaws.com/prod/1559300/004bfd38-ba7c-11f0
 -9613-0a58a9feac02/3061839/e675bff8-f62a-11f0-a163-0a58a9feac02/file/2026-
 01-13 Vista Walk Agenda.pdf
ATTACH;FILENAME=2026-01-13 Vista Walk Agenda Package.pdf;FMTTYPE=applicatio
 n/pdf:https://campussuite-storage.s3.amazonaws.com/prod/1559300/004bfd38-b
 a7c-11f0-9613-0a58a9feac02/3061851/657e827e-f62d-11f0-a8cf-0ebcdc9782fd/fi
 le/2026-01-13 Vista Walk Agenda Package.pdf
END:VEVENT
END:VCALENDAR
