BEGIN:VCALENDAR
VERSION:2.0
PRODID:SchoolNow
CALSCALE:GREGORIAN
BEGIN:VEVENT
UID:82f7cece-c585-11f0-8a72-025da0cf94e5
DTSTAMP:20260128T165457Z
SUMMARY:CDD Board Meeting - Feb. 2026 - Cancelled
LOCATION:the SpringHill Suites by Marriott Tampa Suncoast Parkway located a
 t 16615 Crosspointe Run\, Land O' Lakes\, FL 34638
URL;VALUE=URI:https://www.vistawalkcdd.com/calendar/8804245/cdd-board-meeti
 ng-feb-2026
DTSTART:20260210T150000Z
DTEND:20260210T160000Z
END:VEVENT
END:VCALENDAR
