BEGIN:VCALENDAR
VERSION:2.0
PRODID:SchoolNow
CALSCALE:GREGORIAN
BEGIN:VEVENT
UID:8af95cc8-c585-11f0-b7b8-0affe72d166b
DTSTAMP:20260302T145518Z
SUMMARY:CDD Board Meeting - Mar. 2026 - Cancelled
LOCATION:the SpringHill Suites by Marriott Tampa Suncoast Parkway located a
 t 16615 Crosspointe Run\, Land O' Lakes\, FL 34638
URL;VALUE=URI:https://www.vistawalkcdd.com/calendar/8804246/cdd-board-meeti
 ng-mar-2026
DTSTART:20260310T140000Z
DTEND:20260310T150000Z
END:VEVENT
END:VCALENDAR
