BEGIN:VCALENDAR
VERSION:2.0
PRODID:SchoolNow
CALSCALE:GREGORIAN
BEGIN:VEVENT
UID:93a06722-c585-11f0-8481-0a58a9feac02
DTSTAMP:20260401T135601Z
SUMMARY:CDD Board Meeting - Apr. 2026 - Cancelled
LOCATION:the SpringHill Suites by Marriott Tampa Suncoast Parkway located a
 t 16615 Crosspointe Run\, Land O' Lakes\, FL 34638
URL;VALUE=URI:https://www.vistawalkcdd.com/calendar/8804247/cdd-board-meeti
 ng-apr-2026
DTSTART:20260414T140000Z
DTEND:20260414T150000Z
END:VEVENT
END:VCALENDAR
