BEGIN:VCALENDAR
VERSION:2.0
PRODID:SchoolNow
CALSCALE:GREGORIAN
BEGIN:VEVENT
UID:9c1e8dac-c585-11f0-a479-02af76d80f6f
DTSTAMP:20251119T202328Z
SUMMARY:CDD Board Meeting - May 2026
LOCATION:the SpringHill Suites by Marriott Tampa Suncoast Parkway located a
 t 16615 Crosspointe Run\, Land O' Lakes\, FL 34638
URL;VALUE=URI:https://www.vistawalkcdd.com/calendar/8804248/cdd-board-meeti
 ng-may-2026
DTSTART:20260512T140000Z
DTEND:20260512T150000Z
END:VEVENT
END:VCALENDAR
