BEGIN:VCALENDAR
VERSION:2.0
PRODID:SchoolNow
CALSCALE:GREGORIAN
BEGIN:VEVENT
UID:a6e6dd48-c585-11f0-85d9-025da0cf94e5
DTSTAMP:20251119T202346Z
SUMMARY:CDD Board Meeting - Jun. 2026
LOCATION:the SpringHill Suites by Marriott Tampa Suncoast Parkway located a
 t 16615 Crosspointe Run\, Land O' Lakes\, FL 34638
URL;VALUE=URI:https://www.vistawalkcdd.com/calendar/8804249/cdd-board-meeti
 ng-jun-2026
DTSTART:20260609T140000Z
DTEND:20260609T150000Z
END:VEVENT
END:VCALENDAR
