BEGIN:VCALENDAR
VERSION:2.0
PRODID:SchoolNow
CALSCALE:GREGORIAN
BEGIN:VEVENT
UID:afb46544-c585-11f0-9ce6-0a58a9feac02
DTSTAMP:20251119T202401Z
SUMMARY:CDD Board Meeting - Jul. 2026
LOCATION:the SpringHill Suites by Marriott Tampa Suncoast Parkway located a
 t 16615 Crosspointe Run\, Land O' Lakes\, FL 34638
URL;VALUE=URI:https://www.vistawalkcdd.com/calendar/8804250/cdd-board-meeti
 ng-jul-2026
DTSTART:20260714T140000Z
DTEND:20260714T150000Z
END:VEVENT
END:VCALENDAR
