BEGIN:VCALENDAR
VERSION:2.0
PRODID:SchoolNow
CALSCALE:GREGORIAN
BEGIN:VEVENT
UID:b9d3fd32-c585-11f0-a22f-0affe72d166b
DTSTAMP:20251119T202418Z
SUMMARY:CDD Board Meeting - Aug. 2026
LOCATION:the SpringHill Suites by Marriott Tampa Suncoast Parkway located a
 t 16615 Crosspointe Run\, Land O' Lakes\, FL 34638
URL;VALUE=URI:https://www.vistawalkcdd.com/calendar/8804251/cdd-board-meeti
 ng-aug-2026
DTSTART:20260811T140000Z
DTEND:20260811T150000Z
END:VEVENT
END:VCALENDAR
