BEGIN:VCALENDAR
VERSION:2.0
PRODID:SchoolNow
CALSCALE:GREGORIAN
BEGIN:VEVENT
UID:c2bc68a8-c585-11f0-a56f-0e23de79efab
DTSTAMP:20251119T202433Z
SUMMARY:CDD Board Meeting - Sept. 2026
LOCATION:the SpringHill Suites by Marriott Tampa Suncoast Parkway located a
 t 16615 Crosspointe Run\, Land O' Lakes\, FL 34638
URL;VALUE=URI:https://www.vistawalkcdd.com/calendar/8804252/cdd-board-meeti
 ng-sept-2026
DTSTART:20260908T140000Z
DTEND:20260908T150000Z
END:VEVENT
END:VCALENDAR
